BEGIN:VCALENDAR
VERSION:2.0
PRODID:-//The Academy - ECPv6.15.20//NONSGML v1.0//EN
CALSCALE:GREGORIAN
METHOD:PUBLISH
X-ORIGINAL-URL:https://aca-education.ca
X-WR-CALDESC:Events for The Academy
REFRESH-INTERVAL;VALUE=DURATION:PT1H
X-Robots-Tag:noindex
X-PUBLISHED-TTL:PT1H
BEGIN:VTIMEZONE
TZID:America/Toronto
BEGIN:DAYLIGHT
TZOFFSETFROM:-0500
TZOFFSETTO:-0400
TZNAME:EDT
DTSTART:20240310T070000
END:DAYLIGHT
BEGIN:STANDARD
TZOFFSETFROM:-0400
TZOFFSETTO:-0500
TZNAME:EST
DTSTART:20241103T060000
END:STANDARD
BEGIN:DAYLIGHT
TZOFFSETFROM:-0500
TZOFFSETTO:-0400
TZNAME:EDT
DTSTART:20250309T070000
END:DAYLIGHT
BEGIN:STANDARD
TZOFFSETFROM:-0400
TZOFFSETTO:-0500
TZNAME:EST
DTSTART:20251102T060000
END:STANDARD
BEGIN:DAYLIGHT
TZOFFSETFROM:-0500
TZOFFSETTO:-0400
TZNAME:EDT
DTSTART:20260308T070000
END:DAYLIGHT
BEGIN:STANDARD
TZOFFSETFROM:-0400
TZOFFSETTO:-0500
TZNAME:EST
DTSTART:20261101T060000
END:STANDARD
END:VTIMEZONE
BEGIN:VEVENT
DTSTART;TZID=America/Toronto:20250710T120000
DTEND;TZID=America/Toronto:20250710T130000
DTSTAMP:20260422T123826
CREATED:20250709T171738Z
LAST-MODIFIED:20250709T171738Z
UID:50976-1752148800-1752152400@aca-education.ca
SUMMARY:Migraine Roadmap Program - Dr. Tommy Chan
DESCRIPTION:
URL:https://aca-education.ca/event/migraine-roadmap-program-dr-tommy-chan/
ATTACH;FMTTYPE=image/png:https://aca-education.ca/wp-content/uploads/2025/07/Migraine-Roadmap.png
ORGANIZER;CN="The Academy":MAILTO:info@aca-education.ca
END:VEVENT
BEGIN:VEVENT
DTSTART;TZID=America/Toronto:20250429T120000
DTEND;TZID=America/Toronto:20250429T133000
DTSTAMP:20260422T123826
CREATED:20250130T184119Z
LAST-MODIFIED:20250130T184119Z
UID:48407-1745928000-1745933400@aca-education.ca
SUMMARY:Championing Pneumococcal Disease\, presented by Dr. Ghatehorde
DESCRIPTION:
URL:https://aca-education.ca/event/championing-pneumococcal-disease-presented-by-dr-ghatehorde/
LOCATION:Toronto\, Toronto\, Ontario\, Canada
ATTACH;FMTTYPE=image/jpeg:https://aca-education.ca/wp-content/uploads/2024/12/ACID2301_Visuel_FINAL_March26_V4.jpg
ORGANIZER;CN="The Academy":MAILTO:info@aca-education.ca
END:VEVENT
END:VCALENDAR